BEGIN:VCALENDAR
VERSION:2.0
PRODID:-//The Visitors Tour GH - ECPv6.15.16//NONSGML v1.0//EN
CALSCALE:GREGORIAN
METHOD:PUBLISH
X-WR-CALNAME:The Visitors Tour GH
X-ORIGINAL-URL:https://thevisitorstourgh.com
X-WR-CALDESC:Events for The Visitors Tour GH
REFRESH-INTERVAL;VALUE=DURATION:PT1H
X-Robots-Tag:noindex
X-PUBLISHED-TTL:PT1H
BEGIN:VTIMEZONE
TZID:UTC
BEGIN:STANDARD
TZOFFSETFROM:+0000
TZOFFSETTO:+0000
TZNAME:UTC
DTSTART:20250101T000000
END:STANDARD
END:VTIMEZONE
BEGIN:VEVENT
DTSTART;TZID=UTC:20261224T000000
DTEND;TZID=UTC:20270102T235959
DTSTAMP:20260425T164038
CREATED:20251202T030954Z
LAST-MODIFIED:20260128T184630Z
UID:2190-1798070400-1798934399@thevisitorstourgh.com
SUMMARY:DETTY December in Ghana - 2026
DESCRIPTION:Your Time to Visit Ghana is Now!!!\n\n\n\n✨ Overview \n\n\n\n10 days of nonstop Detty December vibes — Afrofuture events\, beach escapes\, curated nightlife\, and iconic Ghana experiences\, all seamlessly planned for you. \n\n\n\n\n\n\n\n📍Tour Highlights \n✅ Accra City Tour    ✅ Afrofuture (1 Night) ✅ Cape Coast & Elmina Castles (UNESCO World Heritage Sites)✅ Kakum National Park Canopy Walk✅ Safari Valley✅ New Year’s Eve✅ Volta River Boat Cruise in Akosombo✅ Guided by local experts + In-house photographer \n\n\n\n\n\n\n\n\n✅ What’s Included\n\n9 nights quality accommodation\n\n\n\nDaily breakfast\n\n\n\nWelcome Dinner\n\n\n\nAirport pick-up & drop-off\n\n\n\nAll ground transportation in private air-conditioned vehicle\n\n\n\nLicensed local tour guide\n\n\n\nEntry fees to all listed attractions\n\n\n\n1 Night at Afrofuture\n\n\n\nProfessional photographer on tour\n\n\n\nBottled water during travel days\n\n\n\nGroup welcome briefing & support throughout the trip\n\n\n\n\n\n\n\n\n\n❌ What’s Not Included\n\nInternational flights\n\n\n\nVisa fees (if applicable)\n\n\n\nTravel insurance (highly recommended)\n\n\n\nMeals not mentioned as included\n\n\n\nAlcoholic Beverages\n\n\n\nPersonal expenses (shopping\, tips\, room service\, etc.)\n\n\n\nOptional nightlife/events not listed in the itinerary\n\n\n\n\n\n\n\n\n\n🏨 Accommodations\nThoughtfully curated boutique stays that blend comfort\, culture\, and Ghanaian hospitality. \n\n\n\nAccra — La Villa Boutique HotelChic\, tranquil\, and centrally located — a refined retreat in the capital. \n\n\n\nCape Coast — Lemon Beach Resort A serene hilltop escape with sweeping ocean views and peaceful coastal breezes. \n\n\n\nIf any hotel becomes unavailable\, a stay of equal standard will be arranged to maintain comfort and experience quality. \n\n\n\n\n\n\n\n\n\n\n\n\n\n\n\n\n\n\n\nPricing\n\n\n\nReserve your spot early — limited spaces available. \n\n\n\n\n\n\n\n\n\n\n\n$2800\n\n\n\nDouble Occupancy/per person \n\n\n\n\n\nShare a room with a fellow traveler or companion. Perfect for couples\, friends\, or solo travelers willing to pair. \n\n\n\n\n\n\n\n$3200\n\n\n\nSingle Occupancy/per person \n\n\n\n\n\nEnjoy a private room for the full duration of the tour — ideal for guests who prefer personal space and independence. \n\n\n\n\n\n\n\n\n\nReserve Tour – $450 Deposit\n\n\n\n\n\n\n\n\nMonthly Installment Plan\n\n\n\n\nMonthly installment payments begin after deposit\n\n\n\nPayments are spread evenly across the months leading up to December 2026\n\n\n\nAll payments must be completed on or before departure\n\n\n\n\nA personalized payment schedule will be shared after booking. \n\n\n\n\n\n\n\n\n\n\n\n\n\n\n\n\n\n\n\n🛡️ Travel Confidence GuaranteeLicensed Tour Operator  •  Secure Paystack Payments  •  Trusted Hotel Partners  •  Small Group Experience
URL:https://thevisitorstourgh.com/event/detty-december-in-ghana-2026/
CATEGORIES:upcoming
ATTACH;FMTTYPE=image/png:https://thevisitorstourgh.com/wp-content/uploads/2025/12/Detty-December-in-Ghana-_20260103_080230_0000-1.png
END:VEVENT
BEGIN:VEVENT
DTSTART;TZID=UTC:20261111T000000
DTEND;TZID=UTC:20261121T235959
DTSTAMP:20260425T164038
CREATED:20251030T114736Z
LAST-MODIFIED:20260128T183317Z
UID:2087-1794355200-1795305599@thevisitorstourgh.com
SUMMARY:🇬🇭 November in Ghana 2026 – 11-Day Experience
DESCRIPTION:Your Time to Visit Ghana is Now!!!\n\n\n\n✨ Overview \n\n\n\nExperience Ghana in 11 unforgettable days — from the vibrant streets of Accra to the royal traditions of Kumasi\, the deep history of Cape Coast\, and the peaceful beauty of Akosombo. \n\n\n\nThis journey blends culture\, heritage\, and relaxation\, offering a full taste of Ghana’s heartbeat\, warmth\, and peace.  \n\n\n\n\n\n\n\n🌍 Tour Highlights\n✅ Accra City Tour – Independence Square & Arts Centre✅ Cape Coast & Elmina Castles (UNESCO World Heritage Sites)✅ Kakum National Park Canopy Walk✅ Royal Ashanti Culture in Kumasi✅ Aburi Botanical Gardens & Craft Villages✅ Volta River Boat Cruise in Akosombo✅ Guided by local experts + In-house photographer \n\n\n\n\nOxford Street\n\n\n\nCape Coast Castle\n\n\n\nElmina\n\n\n\nBlack Star Square\n\n\n\nLabadi Beach\n\n\n\nBlackstar Square\n\n\n\nSlave River Site\n\n\n\nCape Coast Castle\n\n\n\nBlack star Gate\n\n\n\nKwame Nkrumah Memorial Park\n\n\n\nKumasi\, Ashanti Ghana\n\n\n\nAburi Botanical Gardens\n\n\n\nPolo Beach\n\n\n\nBeach Club\n\n\n\nManhyia Palace Museum\n\n\n\nElmina Slave Castle\n\n\n\n\n\n\n\n\n\n✅ What’s Included\n\n10 nights quality accommodation\n\n\n\nDaily breakfast\n\n\n\nWelcome Dinner\n\n\n\nAirport pick-up & drop-off\n\n\n\nAll ground transportation in private air-conditioned vehicle\n\n\n\nLicensed local tour guide\n\n\n\nEntry fees to all listed attractions\n\n\n\nProfessional photographer on tour\n\n\n\nBottled water during travel days\n\n\n\nGroup welcome briefing & support throughout the trip\n\n\n\n\n\n\n\n\n\n❌ What’s Not Included\n\nInternational flights\n\n\n\nVisa fees (if applicable)\n\n\n\nTravel insurance (highly recommended)\n\n\n\nMeals not mentioned as included\n\n\n\nPersonal expenses (shopping\, tips\, room service\, etc.)\n\n\n\nOptional nightlife/events not listed in the itinerary\n\n\n\n\n\n\n\n\n\n🏨 Accommodations\nThoughtfully curated boutique stays that blend comfort\, culture\, and Ghanaian hospitality. \n\n\n\nAccra — La Villa Boutique HotelChic\, tranquil\, and centrally located — a refined retreat in the capital. \n\n\n\nKumasi — Ike’s Cultural VillageA cultural sanctuary celebrating Ashanti artistry and tradition. \n\n\n\nCape Coast — Golden Hill Parker HotelA serene hilltop escape with sweeping ocean views and peaceful coastal breezes. \n\n\n\nIf any hotel becomes unavailable\, a stay of equal standard will be arranged to maintain comfort and experience quality. \n\n\n\n\n\n\n\n\n\nView Full Itinerary Here\n\n\n\n\n\n\n\n\n\nPricing\n\n\n\nReserve your spot early — limited spaces available. \n\n\n\n\n\n\n\n\n\n\n\n$2600\n\n\n\nDouble Occupancy/per person \n\n\n\n\n\nShare a room with a fellow traveler or companion. Perfect for couples\, friends\, or solo travelers willing to pair. \n\n\n\n\n\n\n\n$2900\n\n\n\nSingle Occupancy/per person \n\n\n\n\n\nEnjoy a private room for the full duration of the tour — ideal for guests who prefer personal space and independence. \n\n\n\n\n\n\n\n\n\nReserve Tour – Deposit $500\n\n\n\n\n💳 INSTALLMENT PLAN \n\n\n\n\n\n🔹 Double Occupancy — $2\,600\n\n\n\n\nDeposit now: $500\n\n\n\nBalance: $2\,100\n\n\n\n\nInstallments \n\n\n\n\nEnd of July – $525\n\n\n\nEnd of Aug – $525\n\n\n\nEnd of Sept – $525\n\n\n\nEnd of Oct – $525\n\n\n\n\n\n\n🔹 Single Occupancy — $2\,900\n\n\n\n\nDeposit now: $500\n\n\n\nBalance: $2\,400\n\n\n\n\nInstallments \n\n\n\n\nEnd of July – $600\n\n\n\nEnd of Aug – $600\n\n\n\nEnd of Sept – $600\n\n\n\nEnd of Oct – $600\n\n\n\n\n\n\n✅ Fully paid before November📌 Initial deposit secures your spot | Non-refundable but transferable \n\n\n\n\n\n\n\n\n\n\n\n\n\n\n\n\n\n\n\n🛡️ Travel Confidence GuaranteeLicensed Tour Operator  •  Secure Paystack Payments  •  Trusted Hotel Partners  •  Small Group Experience
URL:https://thevisitorstourgh.com/event/november-in-ghana-2026-11-day-experience/
CATEGORIES:upcoming
ATTACH;FMTTYPE=image/png:https://thevisitorstourgh.com/wp-content/uploads/2025/10/Detty-December-in-Ghana-_20251101_004332_0000.png
END:VEVENT
BEGIN:VEVENT
DTSTART;TZID=UTC:20260519T000000
DTEND;TZID=UTC:20260529T235959
DTSTAMP:20260425T164038
CREATED:20251129T170717Z
LAST-MODIFIED:20260128T180339Z
UID:2145-1779148800-1780099199@thevisitorstourgh.com
SUMMARY:May 2026 In Ghana - 11 Days Experience
DESCRIPTION:Your Time to Visit Ghana is Now!!!\n\n\n\n✨ Overview \n\n\n\nExperience Ghana in 11 unforgettable days — from the vibrant streets of Accra to the royal traditions of Kumasi\, the deep history of Cape Coast\, and the peaceful beauty of Akosombo. \n\n\n\nThis journey blends culture\, heritage\, and relaxation\, offering a full taste of Ghana’s heartbeat\, warmth\, and peace. \n\n\n\n\n\n\n\n🌍 Tour Highlights\n✅ Accra City Tour – Independence Square & Arts Centre✅ Cape Coast & Elmina Castles (UNESCO World Heritage Sites)✅ Kakum National Park Canopy Walk✅ Royal Ashanti Culture in Kumasi✅ Aburi Botanical Gardens & Craft Villages✅ Volta River Boat Cruise in Akosombo✅ Guided by local experts + In-house photographer \n\n\n\n\nOxford Street\n\n\n\nCape Coast Castle\n\n\n\nElmina\n\n\n\nBlack Star Square\n\n\n\nLabadi Beach\n\n\n\nBlackstar Square\n\n\n\nSlave River Site\n\n\n\nCape Coast Castle\n\n\n\nBlack star Gate\n\n\n\nKwame Nkrumah Memorial Park\n\n\n\nKumasi\, Ashanti Ghana\n\n\n\nAburi Botanical Gardens\n\n\n\nPolo Beach\n\n\n\nBeach Club\n\n\n\nManhyia Palace Museum\n\n\n\nElmina Slave Castle\n\n\n\n\n\n\n\n\n\n✅ What’s Included\n\n10 nights quality accommodation\n\n\n\nDaily breakfast\n\n\n\nWelcome Dinner\n\n\n\nAirport pick-up & drop-off\n\n\n\nAll ground transportation in private air-conditioned vehicle\n\n\n\nLicensed local tour guide\n\n\n\nEntry fees to all listed attractions\n\n\n\nProfessional photographer on tour\n\n\n\nBottled water during travel days\n\n\n\nGroup welcome briefing & support throughout the trip\n\n\n\n\n\n\n\n\n\n❌ What’s Not Included\n\nInternational flights\n\n\n\nVisa fees (if applicable)\n\n\n\nTravel insurance (highly recommended)\n\n\n\nMeals not mentioned as included\n\n\n\nPersonal expenses (shopping\, tips\, room service\, etc.)\n\n\n\nOptional nightlife/events not listed in the itinerary\n\n\n\n\n\n\n\n\n\n🏨 Accommodations\nThoughtfully curated boutique stays that blend comfort\, culture\, and Ghanaian hospitality. \n\n\n\nAccra — La Villa Boutique HotelChic\, tranquil\, and centrally located — a refined retreat in the capital. \n\n\n\nKumasi — Ike’s Cultural VillageA cultural sanctuary celebrating Ashanti artistry and tradition. \n\n\n\nCape Coast — Golden Hill Parker HotelA serene hilltop escape with sweeping ocean views and peaceful coastal breezes. \n\n\n\nIf any hotel becomes unavailable\, a stay of equal standard will be arranged to maintain comfort and experience quality. \n\n\n\n\n\n\n\n\n\n\n\n\n\n\n\nPricing\n\n\n\nReserve your spot early — limited spaces available. \n\n\n\n\n\n\n\n\n\n\n\n$2600\n\n\n\nDouble Occupancy/per person \n\n\n\n\n\nShare a room with a fellow traveler or companion. Perfect for couples\, friends\, or solo travelers willing to pair. \n\n\n\n\n\n\n\n$2900\n\n\n\nSingle Occupancy/per person \n\n\n\n\n\nEnjoy a private room for the full duration of the tour — ideal for guests who prefer personal space and independence. \n\n\n\n\n\n\n\n\n\n\n\n\n\nReserve Tour — $500 Deposit\n\n\n\n\n💳 Fair Installment Plan (Spread into May)\n\n\n\nPay now \n\n\n\n\n$500 – Deposit (secures your spot)\n\n\n\n\n\n\n🔹 Double Occupancy — $2\,600\n\n\n\n\nDeposit now: $500\n\n\n\nBalance: $2\,100\n\n\n\n\nInstallments \n\n\n\n\nEnd of Feb – $700\n\n\n\nEnd of Mar – $700\n\n\n\nEnd of Apr – $700\n\n\n\n\n\n\n🔹 Single Occupancy — $2\,900\n\n\n\n\nDeposit now: $500\n\n\n\nBalance: $2\,400\n\n\n\n\nInstallments \n\n\n\n\nEnd of Feb – $800\n\n\n\nEnd of Mar – $800\n\n\n\nEnd of Apr – $800\n\n\n\n\n\n\n✅ Fully paid by 31 May \n\n\n\n\n\n\n\n\n\n\n\n\n\n\n\n🛡️ Travel Confidence GuaranteeLicensed Tour Operator  •  Secure Paystack Payments  •  Trusted Hotel Partners  •  Small Group Experience
URL:https://thevisitorstourgh.com/event/may-2026-in-ghana/
CATEGORIES:upcoming
ATTACH;FMTTYPE=image/png:https://thevisitorstourgh.com/wp-content/uploads/2025/11/May-In-Ghana-2026.png
END:VEVENT
BEGIN:VEVENT
DTSTART;TZID=UTC:20260214T000000
DTEND;TZID=UTC:20260223T235959
DTSTAMP:20260425T164038
CREATED:20251219T193247Z
LAST-MODIFIED:20251219T202128Z
UID:2298-1771027200-1771891199@thevisitorstourgh.com
SUMMARY:Celebrate Black History Month in Ghana - 10 Days
DESCRIPTION:Your Time to Visit Ghana is Now!!!\n\n\n\n✨ Overview \n\n\n\nCelebrate Black History Month in Ghana — the Motherland — through culture\, history\, and community. This 10-day journey honors resilience\, reconnection\, and pride. Spaces are limited to ensure an intimate and meaningful experience. \n\n\n\n\n\n\n\n📍Tour Highlights \n10-Day Ghana Heritage & Coastal Experience (Overview) \n\n\n\n\nDay 1: Arrival in Accra with a warm cultural welcome\, hotel check-in\, and evening gathering to connect and set the tone for the journey.\n\n\n\nDay 2: Guided exploration of Accra’s historic landmarks\, cultural centers\, markets\, and creative spaces\, ending with a vibrant city evening experience.\n\n\n\nDay 3: Travel to Ghana’s Central Region for a deeply moving heritage day\, visiting historic coastal forts and participating in a Black history remembrance experience.\n\n\n\nDay 4: Nature and adventure day featuring a rainforest canopy walk and immersive eco-experiences\, followed by relaxation time.\n\n\n\nDay 5: Return to Accra for a chill day.\n\n\n\nDay 6: Journey east to the Volta Region for a scenic lake cruise\, live music\, and an overnight stay at a tranquil lakeside resort.\n\n\n\nDay 7: Cultural and leisure exploration in Ada\, blending museum visits\, riverside relaxation\, and beach time.\n\n\n\nDay 8: Island escape with a full leisure day\, optional water activities\, and an evening celebration under the stars.\n\n\n\nDay 9: Return to Accra for final shopping\, cultural showcases\, reflections\, and a farewell celebration.\n\n\n\nDay 10: Departure day with airport transfers and heartfelt goodbyes.\n\n\n\n\n\n\n\n\n\n✅ What’s Included\n\n9 nights quality accommodation\n\n\n\nDaily breakfast\n\n\n\nWelcome Dinner\n\n\n\nAirport pick-up & drop-off\n\n\n\nAll ground transportation in private air-conditioned vehicle\n\n\n\nLicensed local tour guide\n\n\n\nEntry fees to all listed attractions\n\n\n\nProfessional photographer on tour\n\n\n\nBottled water during travel days\n\n\n\nGroup welcome briefing & support throughout the trip\n\n\n\n\n\n\n\n\n\n❌ What’s Not Included\n\nInternational flights\n\n\n\nVisa fees (if applicable)\n\n\n\nTravel insurance (highly recommended)\n\n\n\nMeals not mentioned as included\n\n\n\nAlcoholic Beverages \n\n\n\nPersonal expenses (shopping\, tips\, room service\, etc.)\n\n\n\nOptional nightlife/events not listed in the itinerary\n\n\n\n\n\n\n\n\n\n🏨 Accommodations\nThoughtfully curated boutique stays that blend comfort\, culture\, and Ghanaian hospitality. \n\n\n\nAccra – La Villa Hotel\, Elmina – Lemon Beach Resort\, Akosombo – Afrikiko\, Ada – Aqua Safari \n\n\n\nIf any hotel becomes unavailable\, a stay of equal standard will be arranged to maintain comfort and experience quality. \n\n\n\n\n\n\n\n\nGallery\n\nKwame Nkrumah Park\n\n\n\nLemon Beach\n\n\n\nBlack Star Square\n\n\n\nSlave River Site\n\n\n\nCape Coast Castle\n\n\n\nTreasure Island\n\n\n\nKakum Canopy Walk\n\n\n\nElmina Castle\n\n\n\nLabadi Beach\n\n\n\nPolo Beach\n\n\n\nAssin Manso Slave River Site \n\n\n\n\n\n\n\n\n\n\n\n\n\n\n\n\n\n\n\n\n\n\n\n\nPricing\n\n\n\nReserve your spot early — limited spaces available. \n\n\n\n\n\n\n\n\n\n\n\n$3200\n\n\n\nDouble Occupancy/per person Early Bird Price: $2\,900 (valid until February 28\, 2026) \n\n\n\n\n\nShare a room with a fellow traveler or companion. Perfect for couples\, friends\, or solo travelers willing to pair. (Single room upon request.) \n\n\n\n\n\n\n\n$3700\n\n\n\nDouble Occupancy/per person. Regular Price \n\n\n\n\n\nShare a room with a fellow traveler or companion. Perfect for couples\, friends\, or solo travelers willing to pair. (Single room upon request.) \n\n\n\n\n\n\n\n\n\n$640 Deposit to Reserve Your Spot\n\n\n\n\n\n\n\n\n\n\n\n\n\n\n\n\n\n\n\n\n🛡️ Travel Confidence GuaranteeLicensed Tour Operator  •  Secure Paystack Payments  •  Trusted Hotel Partners  •  Small Group Experience
URL:https://thevisitorstourgh.com/event/celebrate-black-history-month-in-ghana/
CATEGORIES:upcoming
ATTACH;FMTTYPE=image/jpeg:https://thevisitorstourgh.com/wp-content/uploads/2025/11/2024_03_26_13_11_IMG_0705-scaled.jpg
ORGANIZER;CN="Immanuel":MAILTO:info@thevisitorstourgh.com
END:VEVENT
END:VCALENDAR